BEGIN:VCALENDAR
VERSION:2.0
PRODID:-//reparts.com//NONSGML kigkonsult.se iCalcreator 2.16.12//
METHOD:PUBLISH
X-WR-CALNAME:4. Classic Day am 21. Mai 2017
X-WR-CALDESC:<p>Das neue Jahr ist da und bei uns haben die Planungen zum 4.
  Classic Day am 21. Mai 2017 auf dem Schützenplatz in 21259 Otter begonnen
  !</p>\n<p>Auch bei unserem 4. Classic Day haben PKW\, Motorräder und Trec
 ker ab einem Alter von 25 Jahren kostenfreien Einlass auf das Ausstellungs
 gelände.</p>\n<p>Das 9. Tostedter Oldtimertreffen am 16. und 17. September
  2017 findet ebenfalls wie gewohnt statt.</p>
X-WR-TIMEZONE:Europe/Stockholm
BEGIN:VEVENT
UID:20260420T030407CEST-9464OtbzCU@reparts.com
DTSTAMP:20260420T010407Z
DESCRIPTION:Das neue Jahr ist da und bei uns haben die Planungen zum 4. Cla
 ssic Day am 21. Mai 2017 auf dem Schützenplatz in 21259 Otter begonnen !\n
 Auch bei unserem 4. Classic Day haben PKW\, Motorräder und Trecker ab eine
 m Alter von 25 Jahren kostenfreien Einlass auf das Ausstellungsgelände.\nD
 as 9. Tostedter Oldtimertreffen am 16. und 17. September 2017 findet ebenf
 alls wie gewohnt statt.
DTSTART:20170521T090000
DTEND:20170521T180000
LOCATION:Zum Schützenplatz Zum Schützenplatz 21259 Otter Deutschland
SUMMARY:4. Classic Day am 21. Mai 2017
URL:https://reparts.com/de/calendar_events/calendar_events_view,4--Classic-
 Day-am-21--Mai-2017,98.htm
END:VEVENT
END:VCALENDAR
