BEGIN:VCALENDAR
VERSION:2.0
PRODID:-//reparts.com//NONSGML kigkonsult.se iCalcreator 2.16.12//
METHOD:PUBLISH
X-WR-CALNAME:12. Espresso Oldtimer Rallye
X-WR-CALDESC:<p><span style='text-decoration: underline\;'><strong>12. Espr
 esso Oldtimer Rallye</strong></span></p>\n<p><span>Die Espresso ist eine O
 ldtimer Rallye. Start berechtigt sind historische oder klassische Fahrzeug
 e bis Baujahr 1990 und älter. Sollte Ihr Fahrzeug\, jünger sein\, setzten 
 Sie sich mit uns in Verbindung.  Die Veranstaltung findet auf öffentlichen
  Verkehrsflächen und Straßen statt. Die Wertungs Prüfungen oder Technik Pr
 üfungen werden auf gesperrten Straßen durchgeführt. Das Roadbook führt die
  Teilnehmer über wenig befahrene Strecken. Zu den Wertungs- und Technik Pr
 üfungen  kommen noch Durchfahrts Kontrollen die bemannt\, unbemannt oder g
 eheim sein können.Entsprechende Einträge werden auf Ihrer Bordkarte dokume
 ntiert und führen letztendlich zu Ihrem Rallye Ergebnis.</span></p>
X-WR-TIMEZONE:Europe/Stockholm
BEGIN:VEVENT
UID:20260424T205444CEST-59030Fejnu@reparts.com
DTSTAMP:20260424T185444Z
DESCRIPTION:12. Espresso Oldtimer Rallye\nDie Espresso ist eine Oldtimer Ra
 llye. Start berechtigt sind historische oder klassische Fahrzeuge bis Bauj
 ahr 1990 und älter. Sollte Ihr Fahrzeug\, jünger sein\, setzten Sie sich m
 it uns in Verbindung.  Die Veranstaltung findet auf öffentlichen Verkehrsf
 lächen und Straßen statt. Die Wertungs Prüfungen oder Technik Prüfungen we
 rden auf gesperrten Straßen durchgeführt. Das Roadbook führt die Teilnehme
 r über wenig befahrene Strecken. Zu den Wertungs- und Technik Prüfungen  k
 ommen noch Durchfahrts Kontrollen die bemannt\, unbemannt oder geheim sein
  können.Entsprechende Einträge werden auf Ihrer Bordkarte dokumentiert und
  führen letztendlich zu Ihrem Rallye Ergebnis.
DTSTART:20170527T080000
DTEND:20170527T183000
LOCATION:Emminger Hof\, Erzabtei 12\, Eresing  Erzabtei 12 86941 Eresing Ge
 rmany
SUMMARY:12. Espresso Oldtimer Rallye
URL:https://reparts.com/en/calendar_events/calendar_events_view,12--Espress
 o-Oldtimer-Rallye,126.htm
END:VEVENT
END:VCALENDAR
