BEGIN:VCALENDAR
VERSION:2.0
PRODID:-//reparts.com//NONSGML kigkonsult.se iCalcreator 2.16.12//
METHOD:PUBLISH
X-WR-CALNAME:31. Kadett C Treffen auf dem Opel Parkplatz
X-WR-CALDESC:<p><strong>Lange hat es gedauert\, aber die Bestätigung ist je
 tzt da!!!</strong></p>\n<p>Es geht also in die nächste Runde!!</p>\n<p>Als
 o zum 31. Mal findet unser Kadett C Ostertreffen statt. Und zwar am 30.04.
 17 ist es wieder soweit.</p>\n<p>Es gibt auch wieder etwas zu feiern: 30 J
 ahre Kadett C Treffen Kaiserslautern</p>\n<p>Ja\, auch unser Treffen selbs
 t hat nun sein H-Kennzeichen erreicht!</p>\n<p> </p>\n<p>Am Vorabend des T
 reffens\, 29.04.17 würden wir uns freuen wenn wir uns bereits wie in den v
 ergangenen Jahren zum Benzin Talk bei Bauer Schmidt in Weilerbach treffen 
 würden. <a href='http://www.bauer-schmidt.com/'> www.bauer-schmidt.com </a
 ></p>\n<p> </p>\n<p>Zu beiden Evetns laden wir nicht nur alle Kadett C Fah
 rer\, sondern auch alle anderen Automobil begeisterte Mitmenschen\, recht 
 herzlich ein. Das Treffen findet wieder wie immer auf dem Parkplatz der Ad
 am-Opel AG in Kaiserslautern statt. </p>\n<p>Die Anreise der Kadett C Fahr
 er sollte zwischen 09.00 Uhr und 11.00 Uhr erfolgen. Die Siegerehrung ist 
 für 15.00 Uhr geplant. Startgeld für Kadett C´s 15€ pro Fahrzeug. </p>\n<p
 >Besuchereintritt 1€ Ein Teil des Eintrittsgeldes wird wie bereits in den 
 vergangenen Jahren einer gemeinnützigen Stiftung bzw. Anstalt gespendet.</
 p>\n<p>Ganz besonders würden wir uns darüber freuen wenn wieder möglichst 
 viele der ehemaligen Kadett C Club Mitglieder (insgesamt mehr als 100 an d
 er Zahl) zu einem der beiden Termine erscheinen würden. Also ich hoffe wir
  sehen uns bei unserem Kadett C Treffen bzw. zum Benzin Talk beim Bauer Sc
 hmidt.</p>\n<p> </p>\n<p><font size='2' face='Verdana\, Arial\, Helvetica\
 , sans-serif'> </font></p>
X-WR-TIMEZONE:Europe/Stockholm
BEGIN:VEVENT
UID:20260420T111625CEST-2494gnEtot@reparts.com
DTSTAMP:20260420T091625Z
DESCRIPTION:Lange hat es gedauert\, aber die Bestätigung ist jetzt da!!!\nE
 s geht also in die nächste Runde!!\nAlso zum 31. Mal findet unser Kadett C
  Ostertreffen statt. Und zwar am 30.04.17 ist es wieder soweit.\nEs gibt a
 uch wieder etwas zu feiern: 30 Jahre Kadett C Treffen Kaiserslautern\nJa\,
  auch unser Treffen selbst hat nun sein H-Kennzeichen erreicht!\n \nAm Vor
 abend des Treffens\, 29.04.17 würden wir uns freuen wenn wir uns bereits w
 ie in den vergangenen Jahren zum Benzin Talk bei Bauer Schmidt in Weilerba
 ch treffen würden.  www.bauer-schmidt.com \n \nZu beiden Evetns laden wir 
 nicht nur alle Kadett C Fahrer\, sondern auch alle anderen Automobil begei
 sterte Mitmenschen\, recht herzlich ein. Das Treffen findet wieder wie imm
 er auf dem Parkplatz der Adam-Opel AG in Kaiserslautern statt. \nDie Anrei
 se der Kadett C Fahrer sollte zwischen 09.00 Uhr und 11.00 Uhr erfolgen. D
 ie Siegerehrung ist für 15.00 Uhr geplant. Startgeld für Kadett C´s 15€ pr
 o Fahrzeug. \nBesuchereintritt 1€ Ein Teil des Eintrittsgeldes wird wie be
 reits in den vergangenen Jahren einer gemeinnützigen Stiftung bzw. Anstalt
  gespendet.\nGanz besonders würden wir uns darüber freuen wenn wieder mögl
 ichst viele der ehemaligen Kadett C Club Mitglieder (insgesamt mehr als 10
 0 an der Zahl) zu einem der beiden Termine erscheinen würden. Also ich hof
 fe wir sehen uns bei unserem Kadett C Treffen bzw. zum Benzin Talk beim Ba
 uer Schmidt.\n \n 
DTSTART:20170430T090000
DTEND:20170430T150000
LOCATION:Adam Opel AG\, Opelkreisel 9\, Kaiserslautern  Opelkreisel 9 67655
  Kaiserslautern  Germany
SUMMARY:31. Kadett C Treffen auf dem Opel Parkplatz
URL:https://reparts.com/en/calendar_events/calendar_events_view,31--Kadett-
 C-Treffen-auf-dem-Opel-Parkplatz,59.htm
END:VEVENT
END:VCALENDAR
