BEGIN:VCALENDAR
VERSION:2.0
PRODID:-//reparts.com//NONSGML kigkonsult.se iCalcreator 2.16.12//
METHOD:PUBLISH
X-WR-CALNAME:31. Oldtimer- & Teilemarkt im Plauen-Park
X-WR-CALDESC:<p><span style='text-decoration: underline\;'><strong>31. Oldt
 imer- &amp\; Teilemarkt im Plauen-Park</strong></span></p>\n<p>Für alle Ol
 dtimerfreunde wird am <strong>Sonntag\, den 23. April\, in der Zeit von 7:
 00 bis 13:00 Uhr</strong> unmittelbar hinter dem Einkaufszentrum Plauen Pa
 rk ein Oldtimer-Teilemarkt stattfinden. Gehandelt und verkauft werden orig
 inal und nachgefertigte Ersatzteile\, Automobilia und Komplettfahrzeuge.</
 p>
X-WR-TIMEZONE:Europe/Stockholm
BEGIN:VEVENT
UID:20260425T183229CEST-9532oEhMkc@reparts.com
DTSTAMP:20260425T163229Z
DESCRIPTION:31. Oldtimer- &amp\; Teilemarkt im Plauen-Park\nFür alle Oldtim
 erfreunde wird am Sonntag\, den 23. April\, in der Zeit von 7:00 bis 13:00
  Uhr unmittelbar hinter dem Einkaufszentrum Plauen Park ein Oldtimer-Teile
 markt stattfinden. Gehandelt und verkauft werden original und nachgefertig
 te Ersatzteile\, Automobilia und Komplettfahrzeuge.
DTSTART:20170423T070000
DTEND:20170423T130000
LOCATION:Plauen Park\, Alte Jößnitzer Straße Alte Jößnitzer Straße 08525 Pl
 auen-Kauschwitz Germany
SUMMARY:31. Oldtimer- & Teilemarkt im Plauen-Park
URL:https://reparts.com/en/calendar_events/calendar_events_view,31--Oldtime
 r---Teilemarkt-im-Plauen-Park,33.htm
END:VEVENT
END:VCALENDAR
