BEGIN:VCALENDAR
VERSION:2.0
PRODID:-//reparts.com//NONSGML kigkonsult.se iCalcreator 2.16.12//
METHOD:PUBLISH
X-WR-CALNAME:37. Int. NSU-Treffen am Strandkurhaus
X-WR-CALDESC:<p><span>&gt\; VORLÄUFIGES PROGRAMM</span><br /><span>&gt\; PR
 OVISIONAL PROGRAM</span><br /><span>&gt\; PROGRAMME PROVISOIRE</span><br /
 ><span>25.05.2017 &gt\; DONNERSTAG / THURSDAY / JEUDI</span><br /><span>..
 .........................................................................<
 /span><br /><span>Eintreffen der Teilnehmer am Strandcamp</span><br /><spa
 n>Anmeldung</span><br /><span>Gemütliches Beisammensein</span><br /><span>
 ..........................................................................
 .</span><br /><span>arrival at Strandcamp</span><br /><span>registration</
 span><br /><span>social gathering</span><br /><span>......................
 .....................................................</span><br /><span>ar
 rivée au Strandcamp</span><br /><span>inscription</span><br /><span>rèunio
 n amicale</span><br /><span>..............................................
 .............................</span><br /><span>26.05.2017 &gt\; FREITAG /
  FRIDAY / VENDREDI</span><br /><span>.....................................
 ......................................</span><br /><span>Frühstück im Stra
 ndkurhaus</span><br /><span>verschiedene Ausflugsvorschläge</span><br /><s
 pan>Abends: offizielle Begrüßung im Festzelt</span><br /><span>...........
 ................................................................</span><br
  /><span>breakfast at Strandkurhaus</span><br /><span>different excursion 
 suggestions</span><br /><span>evening: official welcome at the pavilion</s
 pan><br /><span>..........................................................
 .................</span><br /><span>petit dèjeuner au Strandkurhaus   </sp
 an><br /><span>suggestion diverses d‘excursions  </span><br /><span>le soi
 r: bienvenue officiel sous la tente</span><br /><span>....................
 .......................................................</span><br /><span>
 27.05.2017 &gt\; SAMSTAG / SATURDAY / SAMEDI</span><br /><span>...........
 ................................................................</span><br
  /><span>Frühstück im Strandkurhaus</span><br /><span>Ausfahrt und Gruppen
 foto</span><br /><span>Unterhaltungsabend im Festzelt</span><br /><span>..
 .........................................................................<
 /span><br /><span>breakfast at Strandkurhaus</span><br /><span>ride and gr
 oup photo</span><br /><span>evening: entertainment at the pavilion</span><
 br /><span>...............................................................
 ............</span><br /><span>petit dèjeuner au Strandkurhaus   </span><b
 r /><span>excursion en voiture et photo de groupe</span><br /><span>soirèe
  de gala sous la tente</span><br /><span>.................................
 ..........................................</span><br /><span>28.05.2017 &g
 t\; SONNTAG / SUNDAY / DIMANCHE</span><br /><span>........................
 ...................................................</span><br /><span>Früh
 stück im Strandkurhaus</span><br /><span>Abreise</span><br /><span>.......
 ....................................................................</span
 ><br /><span>breakfast at Strandkurhaus</span><br /><span>departure</span>
 <br /><span>..............................................................
 .............</span><br /><span>petit dèjeuner au Strandkurhaus   </span><
 br /><span>dèpart</span></p>
X-WR-TIMEZONE:Europe/Stockholm
BEGIN:VEVENT
UID:20260421T102323CEST-4890Aasd7g@reparts.com
DTSTAMP:20260421T082323Z
DESCRIPTION:&gt\; VORLÄUFIGES PROGRAMM\n&gt\; PROVISIONAL PROGRAM\n&gt\; PR
 OGRAMME PROVISOIRE\n25.05.2017 &gt\; DONNERSTAG / THURSDAY / JEUDI\n......
 .....................................................................\nEin
 treffen der Teilnehmer am Strandcamp\nAnmeldung\nGemütliches Beisammensein
 \n........................................................................
 ...\narrival at Strandcamp\nregistration\nsocial gathering\n..............
 .............................................................\narrivée au 
 Strandcamp\ninscription\nrèunion amicale\n................................
 ...........................................\n26.05.2017 &gt\; FREITAG / FR
 IDAY / VENDREDI\n.........................................................
 ..................\nFrühstück im Strandkurhaus\nverschiedene Ausflugsvorsc
 hläge\nAbends: offizielle Begrüßung im Festzelt\n.........................
 ..................................................\nbreakfast at Strandkur
 haus\ndifferent excursion suggestions\nevening: official welcome at the pa
 vilion\n..................................................................
 .........\npetit dèjeuner au Strandkurhaus   \nsuggestion diverses d‘excur
 sions  \nle soir: bienvenue officiel sous la tente\n......................
 .....................................................\n27.05.2017 &gt\; SA
 MSTAG / SATURDAY / SAMEDI\n...............................................
 ............................\nFrühstück im Strandkurhaus\nAusfahrt und Gru
 ppenfoto\nUnterhaltungsabend im Festzelt\n................................
 ...........................................\nbreakfast at Strandkurhaus\nr
 ide and group photo\nevening: entertainment at the pavilion\n.............
 ..............................................................\npetit dèje
 uner au Strandkurhaus   \nexcursion en voiture et photo de groupe\nsoirèe 
 de gala sous la tente\n...................................................
 ........................\n28.05.2017 &gt\; SONNTAG / SUNDAY / DIMANCHE\n..
 .........................................................................
 \nFrühstück im Strandkurhaus\nAbreise\n...................................
 ........................................\nbreakfast at Strandkurhaus\ndepa
 rture\n...................................................................
 ........\npetit dèjeuner au Strandkurhaus   \ndèpart
DTSTART:20170525T090000
DTEND:20170528T170000
LOCATION:Strandcamping Waging am See\, Am See 1\, Waging am See Am See 1 83
 329 Waging am See Germany
SUMMARY:37. Int. NSU-Treffen am Strandkurhaus
URL:https://reparts.com/en/calendar_events/calendar_events_view,37--Int--NS
 U-Treffen-am-Strandkurhaus,116.htm
END:VEVENT
END:VCALENDAR
